BEGIN:VCALENDAR
VERSION:2.0
PRODID:-//Oklahoma Orchid Society - ECPv6.15.20//NONSGML v1.0//EN
CALSCALE:GREGORIAN
METHOD:PUBLISH
X-WR-CALNAME:Oklahoma Orchid Society
X-ORIGINAL-URL:https://okorchidsociety.org
X-WR-CALDESC:Events for Oklahoma Orchid Society
REFRESH-INTERVAL;VALUE=DURATION:PT1H
X-Robots-Tag:noindex
X-PUBLISHED-TTL:PT1H
BEGIN:VTIMEZONE
TZID:America/Chicago
BEGIN:DAYLIGHT
TZOFFSETFROM:-0600
TZOFFSETTO:-0500
TZNAME:CDT
DTSTART:20240310T080000
END:DAYLIGHT
BEGIN:STANDARD
TZOFFSETFROM:-0500
TZOFFSETTO:-0600
TZNAME:CST
DTSTART:20241103T070000
END:STANDARD
BEGIN:DAYLIGHT
TZOFFSETFROM:-0600
TZOFFSETTO:-0500
TZNAME:CDT
DTSTART:20250309T080000
END:DAYLIGHT
BEGIN:STANDARD
TZOFFSETFROM:-0500
TZOFFSETTO:-0600
TZNAME:CST
DTSTART:20251102T070000
END:STANDARD
BEGIN:DAYLIGHT
TZOFFSETFROM:-0600
TZOFFSETTO:-0500
TZNAME:CDT
DTSTART:20260308T080000
END:DAYLIGHT
BEGIN:STANDARD
TZOFFSETFROM:-0500
TZOFFSETTO:-0600
TZNAME:CST
DTSTART:20261101T070000
END:STANDARD
END:VTIMEZONE
BEGIN:VEVENT
DTSTART;TZID=America/Chicago:20250329T100000
DTEND;TZID=America/Chicago:20250330T160000
DTSTAMP:20260423T155938
CREATED:20220115T220322Z
LAST-MODIFIED:20250209T185909Z
UID:4239-1743242400-1743350400@okorchidsociety.org
SUMMARY:Tulsa Orchid Society Show & Sale
DESCRIPTION:Tulsa Orchid Society’s “Celebration of Orchids” annual Show & Sale will be held at The Tulsa Garden Center. See SWROGA Web for further details. \n\n\n\nRibbon judging is at 8:00 am Saturday\, followed immediately by AOS judging. \n\n\n\nScreenshot
URL:https://okorchidsociety.org/event/tulsa-orchid-society-show-sale/
LOCATION:The Tulsa Garden Center\, 2435 S Peoria Ave\, Tulsa\, OK\, 74114\, United States
CATEGORIES:GPJC AOS Judging,Other Society's Show & Sale
END:VEVENT
END:VCALENDAR