BEGIN:VCALENDAR
VERSION:2.0
PRODID:-//Oklahoma Orchid Society - ECPv6.15.20//NONSGML v1.0//EN
CALSCALE:GREGORIAN
METHOD:PUBLISH
X-WR-CALNAME:Oklahoma Orchid Society
X-ORIGINAL-URL:https://okorchidsociety.org
X-WR-CALDESC:Events for Oklahoma Orchid Society
REFRESH-INTERVAL;VALUE=DURATION:PT1H
X-Robots-Tag:noindex
X-PUBLISHED-TTL:PT1H
BEGIN:VTIMEZONE
TZID:America/Chicago
BEGIN:DAYLIGHT
TZOFFSETFROM:-0600
TZOFFSETTO:-0500
TZNAME:CDT
DTSTART:20210314T080000
END:DAYLIGHT
BEGIN:STANDARD
TZOFFSETFROM:-0500
TZOFFSETTO:-0600
TZNAME:CST
DTSTART:20211107T070000
END:STANDARD
BEGIN:DAYLIGHT
TZOFFSETFROM:-0600
TZOFFSETTO:-0500
TZNAME:CDT
DTSTART:20220313T080000
END:DAYLIGHT
BEGIN:STANDARD
TZOFFSETFROM:-0500
TZOFFSETTO:-0600
TZNAME:CST
DTSTART:20221106T070000
END:STANDARD
BEGIN:DAYLIGHT
TZOFFSETFROM:-0600
TZOFFSETTO:-0500
TZNAME:CDT
DTSTART:20230312T080000
END:DAYLIGHT
BEGIN:STANDARD
TZOFFSETFROM:-0500
TZOFFSETTO:-0600
TZNAME:CST
DTSTART:20231105T070000
END:STANDARD
END:VTIMEZONE
BEGIN:VEVENT
DTSTART;TZID=America/Chicago:20220507T090000
DTEND;TZID=America/Chicago:20220507T170000
DTSTAMP:20260425T073032
CREATED:20220107T194832Z
LAST-MODIFIED:20220503T032653Z
UID:4146-1651914000-1651942800@okorchidsociety.org
SUMMARY:Oklahoma Orchid Society's Spring 2022 Show & Sale
DESCRIPTION:OOS’s Spring 2022 Show & Sale opens to the public at 9:00am in the Gardens’ Exhibition Hall. Admission and parking are free. Become an OOS member this weekend\, May 7 & 8\, and receive a 10% discount on your first year’s membership; use code SHOW10. \nShow Type: Bench Show with no exhibits\, including no conservation or education exhibit \nSetup: Orchid flower and plant registration on Friday\, May 6\, Noon–5:00pm in the Gardens’ Meeting Room #1. Vendor setup on Friday\, May 6\, 6pm–11pm in the Gardens’ Exhibition Hall. \nJudging: Saturday\, May 7\, ribbon judging begins at 8:00am in the Gardens’ Exhibition Hall\, immediately followed by AOS judging. \nTear down and clean-up will be from 5–6pm Saturday\, May 7.
URL:https://okorchidsociety.org/event/oklahoma-orchid-societys-spring-2022-show-sale/
LOCATION:Will Rogers Gardens Exhibition Center\, 3400 NW 36th Street\, Oklahoma City\, OK\, 73112\, United States
CATEGORIES:GPJC AOS Judging,OOS Show & Sale
END:VEVENT
END:VCALENDAR