BEGIN:VCALENDAR
VERSION:2.0
PRODID:-//Oklahoma Orchid Society - ECPv6.15.20//NONSGML v1.0//EN
CALSCALE:GREGORIAN
METHOD:PUBLISH
X-ORIGINAL-URL:https://okorchidsociety.org
X-WR-CALDESC:Events for Oklahoma Orchid Society
REFRESH-INTERVAL;VALUE=DURATION:PT1H
X-Robots-Tag:noindex
X-PUBLISHED-TTL:PT1H
BEGIN:VTIMEZONE
TZID:America/Chicago
BEGIN:DAYLIGHT
TZOFFSETFROM:-0600
TZOFFSETTO:-0500
TZNAME:CDT
DTSTART:20250309T080000
END:DAYLIGHT
BEGIN:STANDARD
TZOFFSETFROM:-0500
TZOFFSETTO:-0600
TZNAME:CST
DTSTART:20251102T070000
END:STANDARD
BEGIN:DAYLIGHT
TZOFFSETFROM:-0600
TZOFFSETTO:-0500
TZNAME:CDT
DTSTART:20260308T080000
END:DAYLIGHT
BEGIN:STANDARD
TZOFFSETFROM:-0500
TZOFFSETTO:-0600
TZNAME:CST
DTSTART:20261101T070000
END:STANDARD
BEGIN:DAYLIGHT
TZOFFSETFROM:-0600
TZOFFSETTO:-0500
TZNAME:CDT
DTSTART:20270314T080000
END:DAYLIGHT
BEGIN:STANDARD
TZOFFSETFROM:-0500
TZOFFSETTO:-0600
TZNAME:CST
DTSTART:20271107T070000
END:STANDARD
END:VTIMEZONE
BEGIN:VEVENT
DTSTART;TZID=America/Chicago:20260221T100000
DTEND;TZID=America/Chicago:20260221T150000
DTSTAMP:20260423T035325
CREATED:20221228T212609Z
LAST-MODIFIED:20260113T221853Z
UID:6878-1771668000-1771686000@okorchidsociety.org
SUMMARY:GPJC February Judging
DESCRIPTION:All orchid enthusiasts are encouraged to submit orchids for judging by taking them to the GPJC the morning before judging begins or by making arrangements with one of OOS’s AOS judges to take the orchids to judging. Members should download and complete the “Judging Entry Form” for each orchid submitted. Orchid plants and cut flowers submitted at a monthly GPJC judging event or AOS-sanctioned show are candidates for an award.
URL:https://okorchidsociety.org/event/gpjc-february-judging/
LOCATION:Southwestern College\, Beech Science Center\, 100 N College Street\, Winfield\, KS\, 67156\, United States
CATEGORIES:GPJC AOS Judging
END:VEVENT
END:VCALENDAR