BEGIN:VCALENDAR
VERSION:2.0
PRODID:-//Oklahoma Orchid Society - ECPv6.15.20//NONSGML v1.0//EN
CALSCALE:GREGORIAN
METHOD:PUBLISH
X-WR-CALNAME:Oklahoma Orchid Society
X-ORIGINAL-URL:https://okorchidsociety.org
X-WR-CALDESC:Events for Oklahoma Orchid Society
REFRESH-INTERVAL;VALUE=DURATION:PT1H
X-Robots-Tag:noindex
X-PUBLISHED-TTL:PT1H
BEGIN:VTIMEZONE
TZID:America/Chicago
BEGIN:DAYLIGHT
TZOFFSETFROM:-0600
TZOFFSETTO:-0500
TZNAME:CDT
DTSTART:20220313T080000
END:DAYLIGHT
BEGIN:STANDARD
TZOFFSETFROM:-0500
TZOFFSETTO:-0600
TZNAME:CST
DTSTART:20221106T070000
END:STANDARD
BEGIN:DAYLIGHT
TZOFFSETFROM:-0600
TZOFFSETTO:-0500
TZNAME:CDT
DTSTART:20230312T080000
END:DAYLIGHT
BEGIN:STANDARD
TZOFFSETFROM:-0500
TZOFFSETTO:-0600
TZNAME:CST
DTSTART:20231105T070000
END:STANDARD
BEGIN:DAYLIGHT
TZOFFSETFROM:-0600
TZOFFSETTO:-0500
TZNAME:CDT
DTSTART:20240310T080000
END:DAYLIGHT
BEGIN:STANDARD
TZOFFSETFROM:-0500
TZOFFSETTO:-0600
TZNAME:CST
DTSTART:20241103T070000
END:STANDARD
END:VTIMEZONE
BEGIN:VEVENT
DTSTART;TZID=America/Chicago:20230618T130000
DTEND;TZID=America/Chicago:20230618T153000
DTSTAMP:20260425T220325
CREATED:20221216T200248Z
LAST-MODIFIED:20230502T171733Z
UID:6803-1687093200-1687102200@okorchidsociety.org
SUMMARY:OOS June 2023 Meeting
DESCRIPTION:The meeting begins at 1pm with Grower Tips\, where OOS members address a specific orchid growing challenge\, e.g. a specific pest\, repotting\, mounting\, humidity\, or fertilization\, and answer questions from the audience. Come with questions\, and they’ll provide answers! The Business Meeting will follow at 1:20–1:50pm; Program Presentation at 2–3pm; and Show Table\, Auction\, and Raffle at 3–3:30pm. Follow CDC guidelines with respect to COVID-19 precautions. \nProgram Presentation\nThe Society’s own Brian Truong will lead us in our annual orchid repotting clinic.
URL:https://okorchidsociety.org/event/oos-june-2023-meeting/
LOCATION:Will Rogers Gardens Exhibition Center\, 3400 NW 36th Street\, Oklahoma City\, OK\, 73112\, United States
CATEGORIES:OOS Monthly Meeting
END:VEVENT
END:VCALENDAR