BEGIN:VCALENDAR
VERSION:2.0
PRODID:-//Oklahoma Orchid Society - ECPv6.15.20//NONSGML v1.0//EN
CALSCALE:GREGORIAN
METHOD:PUBLISH
X-ORIGINAL-URL:https://okorchidsociety.org
X-WR-CALDESC:Events for Oklahoma Orchid Society
REFRESH-INTERVAL;VALUE=DURATION:PT1H
X-Robots-Tag:noindex
X-PUBLISHED-TTL:PT1H
BEGIN:VTIMEZONE
TZID:America/Chicago
BEGIN:DAYLIGHT
TZOFFSETFROM:-0600
TZOFFSETTO:-0500
TZNAME:CDT
DTSTART:20230312T080000
END:DAYLIGHT
BEGIN:STANDARD
TZOFFSETFROM:-0500
TZOFFSETTO:-0600
TZNAME:CST
DTSTART:20231105T070000
END:STANDARD
BEGIN:DAYLIGHT
TZOFFSETFROM:-0600
TZOFFSETTO:-0500
TZNAME:CDT
DTSTART:20240310T080000
END:DAYLIGHT
BEGIN:STANDARD
TZOFFSETFROM:-0500
TZOFFSETTO:-0600
TZNAME:CST
DTSTART:20241103T070000
END:STANDARD
BEGIN:DAYLIGHT
TZOFFSETFROM:-0600
TZOFFSETTO:-0500
TZNAME:CDT
DTSTART:20250309T080000
END:DAYLIGHT
BEGIN:STANDARD
TZOFFSETFROM:-0500
TZOFFSETTO:-0600
TZNAME:CST
DTSTART:20251102T070000
END:STANDARD
END:VTIMEZONE
BEGIN:VEVENT
DTSTART;TZID=America/Chicago:20240421T120000
DTEND;TZID=America/Chicago:20240421T160000
DTSTAMP:20260425T113118
CREATED:20231109T192311Z
LAST-MODIFIED:20240413T130348Z
UID:8002-1713700800-1713715200@okorchidsociety.org
SUMMARY:OOS April 2024 Meeting
DESCRIPTION:The Kansas Orchid Society (KOS) has invited our membership to attend their picnic; therefore\, we will not be holding a standard meeting at the Will Rogers Garden Center. Instead\, we will journey somewhere over the rainbow and explore the orchids we find there. Munchkins\, scarecrows\, tinmen\, and lions are welcome to attend. \n\n\n\n \n\n\n\n12:00  Picnic at Island Park\, Winfield\, KS      \n\n\n\nKOS is providing all food and beverage options\, water\, tea and maybe coffee or lemonade.1:15 – 1:45 Progress to Greenhouse at Southwestern College for viewing/self tour and and purchases \n\n\n\n2:00  KOS Meeting & Greenhouse tourGreenhouse remains open until 4 for final purchases.
URL:https://okorchidsociety.org/event/oos-april-2024-meeting/
LOCATION:Island Park\, 200 Main St\, Winfield\, Kansas\, 67156\, United States
CATEGORIES:OOS Monthly Meeting
ORGANIZER;CN="Kansas Orchid Society":MAILTO:svcsjp@gmail.com
END:VEVENT
END:VCALENDAR