BEGIN:VCALENDAR
VERSION:2.0
PRODID:-//Oklahoma Orchid Society - ECPv6.15.20//NONSGML v1.0//EN
CALSCALE:GREGORIAN
METHOD:PUBLISH
X-WR-CALNAME:Oklahoma Orchid Society
X-ORIGINAL-URL:https://okorchidsociety.org
X-WR-CALDESC:Events for Oklahoma Orchid Society
REFRESH-INTERVAL;VALUE=DURATION:PT1H
X-Robots-Tag:noindex
X-PUBLISHED-TTL:PT1H
BEGIN:VTIMEZONE
TZID:America/Chicago
BEGIN:DAYLIGHT
TZOFFSETFROM:-0600
TZOFFSETTO:-0500
TZNAME:CDT
DTSTART:20240310T080000
END:DAYLIGHT
BEGIN:STANDARD
TZOFFSETFROM:-0500
TZOFFSETTO:-0600
TZNAME:CST
DTSTART:20241103T070000
END:STANDARD
BEGIN:DAYLIGHT
TZOFFSETFROM:-0600
TZOFFSETTO:-0500
TZNAME:CDT
DTSTART:20250309T080000
END:DAYLIGHT
BEGIN:STANDARD
TZOFFSETFROM:-0500
TZOFFSETTO:-0600
TZNAME:CST
DTSTART:20251102T070000
END:STANDARD
BEGIN:DAYLIGHT
TZOFFSETFROM:-0600
TZOFFSETTO:-0500
TZNAME:CDT
DTSTART:20260308T080000
END:DAYLIGHT
BEGIN:STANDARD
TZOFFSETFROM:-0500
TZOFFSETTO:-0600
TZNAME:CST
DTSTART:20261101T070000
END:STANDARD
END:VTIMEZONE
BEGIN:VEVENT
DTSTART;TZID=America/Chicago:20250615T130000
DTEND;TZID=America/Chicago:20250615T153000
DTSTAMP:20260424T185846
CREATED:20241223T211053Z
LAST-MODIFIED:20250503T221637Z
UID:8667-1749992400-1750001400@okorchidsociety.org
SUMMARY:OOS Meeting—June 2025
DESCRIPTION:The meeting begins at 1pm with Grower Tips\, where OOS members address a specific orchid growing challenge\, e.g. a specific pest\, repotting\, mounting\, humidity\, or fertilization\, and answer questions from the audience. Come with questions\, and they’ll provide answers! The Business Meeting will follow at 1:20–1:50pm; Program Presentation at 2–3pm; and Show Table\, Auction\, and Raffle at 3–3:30pm. \n\n\n\nProgram Presentation\n\n\n\nWe will be doing our annual repotting clinic. Please bring your plants\, newspaper\, and pots if you want assistance from our seasoned orchid enthusiasts.  \n\n\n\nSpeaker’s Biography\n\n\n\nCurrent OOS President Mike Friday will be presenting.
URL:https://okorchidsociety.org/event/oos-meeting-june-2025/
LOCATION:Will Rogers Gardens Exhibition Center\, 3400 NW 36th Street\, Oklahoma City\, OK\, 73112\, United States
CATEGORIES:OOS Monthly Meeting
END:VEVENT
END:VCALENDAR