BEGIN:VCALENDAR
VERSION:2.0
PRODID:-//Oklahoma Orchid Society - ECPv6.15.20//NONSGML v1.0//EN
CALSCALE:GREGORIAN
METHOD:PUBLISH
X-WR-CALNAME:Oklahoma Orchid Society
X-ORIGINAL-URL:https://okorchidsociety.org
X-WR-CALDESC:Events for Oklahoma Orchid Society
REFRESH-INTERVAL;VALUE=DURATION:PT1H
X-Robots-Tag:noindex
X-PUBLISHED-TTL:PT1H
BEGIN:VTIMEZONE
TZID:America/Chicago
BEGIN:DAYLIGHT
TZOFFSETFROM:-0600
TZOFFSETTO:-0500
TZNAME:CDT
DTSTART:20240310T080000
END:DAYLIGHT
BEGIN:STANDARD
TZOFFSETFROM:-0500
TZOFFSETTO:-0600
TZNAME:CST
DTSTART:20241103T070000
END:STANDARD
BEGIN:DAYLIGHT
TZOFFSETFROM:-0600
TZOFFSETTO:-0500
TZNAME:CDT
DTSTART:20250309T080000
END:DAYLIGHT
BEGIN:STANDARD
TZOFFSETFROM:-0500
TZOFFSETTO:-0600
TZNAME:CST
DTSTART:20251102T070000
END:STANDARD
BEGIN:DAYLIGHT
TZOFFSETFROM:-0600
TZOFFSETTO:-0500
TZNAME:CDT
DTSTART:20260308T080000
END:DAYLIGHT
BEGIN:STANDARD
TZOFFSETFROM:-0500
TZOFFSETTO:-0600
TZNAME:CST
DTSTART:20261101T070000
END:STANDARD
BEGIN:DAYLIGHT
TZOFFSETFROM:-0600
TZOFFSETTO:-0500
TZNAME:CDT
DTSTART:20270314T080000
END:DAYLIGHT
BEGIN:STANDARD
TZOFFSETFROM:-0500
TZOFFSETTO:-0600
TZNAME:CST
DTSTART:20271107T070000
END:STANDARD
END:VTIMEZONE
BEGIN:VEVENT
DTSTART;TZID=America/Chicago:20251019T130000
DTEND;TZID=America/Chicago:20251019T153000
DTSTAMP:20260425T113324
CREATED:20241223T211641Z
LAST-MODIFIED:20251007T120524Z
UID:8675-1760878800-1760887800@okorchidsociety.org
SUMMARY:OOS Meeting—October 2025
DESCRIPTION:The meeting begins at 1pm with Grower Tips\, where OOS members address a specific orchid growing challenge\, e.g. a specific pest\, repotting\, mounting\, humidity\, or fertilization\, and answer questions from the audience. Come with questions\, and they’ll provide answers! The Business Meeting will follow at 1:20–1:50pm; Program Presentation at 2–3pm; and Show Table\, Auction\, and Raffle at 3–3:30pm. \n\n\n\nProgram Presentation\n\n\n\nMealy bugs and Scale: the Menaces of Orchids \n\n\n\nSpeaker’s Biography\n\n\n\nDr. Tom Royer is an Oklahoma State University professor emeritus\, the former extension entomologist and Integrated Pest Management coordinator.
URL:https://okorchidsociety.org/event/oos-meeting-october-2025/
LOCATION:Will Rogers Gardens Exhibition Center\, 3400 NW 36th Street\, Oklahoma City\, OK\, 73112\, United States
CATEGORIES:OOS Monthly Meeting
END:VEVENT
BEGIN:VEVENT
DTSTART;TZID=America/Chicago:20260419T130000
DTEND;TZID=America/Chicago:20260419T160000
DTSTAMP:20260425T113324
CREATED:20260306T165957Z
LAST-MODIFIED:20260306T165957Z
UID:9591-1776603600-1776614400@okorchidsociety.org
SUMMARY:OOS Meeting—April 2026
DESCRIPTION:The Business Meeting will take place at 1:00–1:50pm; Program Presentation at 2–3pm; and Show Table\, Auction\, and Raffle at 3–3:30pm. \n\n\n\nProgram \n\n\n\nThe Society’s own Jana Butcher will prepare the Membership for our annual flower show in May\, including interpreting the show schedule.
URL:https://okorchidsociety.org/event/oos-meeting-april-2026/
LOCATION:Will Rogers Gardens Exhibition Center\, 3400 NW 36th Street\, Oklahoma City\, OK\, 73112\, United States
CATEGORIES:OOS Monthly Meeting
END:VEVENT
END:VCALENDAR