BEGIN:VCALENDAR
VERSION:2.0
PRODID:-//Oklahoma Orchid Society - ECPv6.15.20//NONSGML v1.0//EN
CALSCALE:GREGORIAN
METHOD:PUBLISH
X-ORIGINAL-URL:https://okorchidsociety.org
X-WR-CALDESC:Events for Oklahoma Orchid Society
REFRESH-INTERVAL;VALUE=DURATION:PT1H
X-Robots-Tag:noindex
X-PUBLISHED-TTL:PT1H
BEGIN:VTIMEZONE
TZID:America/Chicago
BEGIN:DAYLIGHT
TZOFFSETFROM:-0600
TZOFFSETTO:-0500
TZNAME:CDT
DTSTART:20220313T080000
END:DAYLIGHT
BEGIN:STANDARD
TZOFFSETFROM:-0500
TZOFFSETTO:-0600
TZNAME:CST
DTSTART:20221106T070000
END:STANDARD
BEGIN:DAYLIGHT
TZOFFSETFROM:-0600
TZOFFSETTO:-0500
TZNAME:CDT
DTSTART:20230312T080000
END:DAYLIGHT
BEGIN:STANDARD
TZOFFSETFROM:-0500
TZOFFSETTO:-0600
TZNAME:CST
DTSTART:20231105T070000
END:STANDARD
BEGIN:DAYLIGHT
TZOFFSETFROM:-0600
TZOFFSETTO:-0500
TZNAME:CDT
DTSTART:20240310T080000
END:DAYLIGHT
BEGIN:STANDARD
TZOFFSETFROM:-0500
TZOFFSETTO:-0600
TZNAME:CST
DTSTART:20241103T070000
END:STANDARD
END:VTIMEZONE
BEGIN:VEVENT
DTSTART;TZID=America/Chicago:20230506T100000
DTEND;TZID=America/Chicago:20230507T160000
DTSTAMP:20260425T223148
CREATED:20221017T212022Z
LAST-MODIFIED:20230526T141745Z
UID:6557-1683367200-1683475200@okorchidsociety.org
SUMMARY:"Orchid Kicks on Route 66" OOS Spring 2023 Show & Sale
DESCRIPTION:See hundreds of orchids on show and for sale at Oklahoma Orchid Society’s “Orchid Kicks on Route 66” Spring 2023 Show & Sale\, the Society’s AOS-sanctioned event of the year. This two-day “Bench and Full Exhibit” show will be held on Saturday and Sunday\, May 6 & 7\, from 10am to 4pm at Will Rogers Gardens Exhibition Center\, 3400 NW 36th Street\, Oklahoma City\, OK. Admission and parking are free\, and the event is open to the public. See the OOS Shows & Sales webpage for more information.Ribbon judging begins at 8:00 am on Saturday\, followed immediately by AOS judging.
URL:https://okorchidsociety.org/event/orchid-kicks-on-route-66-oos-spring-2023-show-sale/
LOCATION:Will Rogers Gardens Exhibition Center\, 3400 NW 36th Street\, Oklahoma City\, OK\, 73112\, United States
CATEGORIES:GPJC AOS Judging,OOS Show & Sale
END:VEVENT
END:VCALENDAR