BEGIN:VCALENDAR
VERSION:2.0
PRODID:-//Oklahoma Orchid Society - ECPv6.15.20//NONSGML v1.0//EN
CALSCALE:GREGORIAN
METHOD:PUBLISH
X-ORIGINAL-URL:https://okorchidsociety.org
X-WR-CALDESC:Events for Oklahoma Orchid Society
REFRESH-INTERVAL;VALUE=DURATION:PT1H
X-Robots-Tag:noindex
X-PUBLISHED-TTL:PT1H
BEGIN:VTIMEZONE
TZID:America/Chicago
BEGIN:DAYLIGHT
TZOFFSETFROM:-0600
TZOFFSETTO:-0500
TZNAME:CDT
DTSTART:20250309T080000
END:DAYLIGHT
BEGIN:STANDARD
TZOFFSETFROM:-0500
TZOFFSETTO:-0600
TZNAME:CST
DTSTART:20251102T070000
END:STANDARD
BEGIN:DAYLIGHT
TZOFFSETFROM:-0600
TZOFFSETTO:-0500
TZNAME:CDT
DTSTART:20260308T080000
END:DAYLIGHT
BEGIN:STANDARD
TZOFFSETFROM:-0500
TZOFFSETTO:-0600
TZNAME:CST
DTSTART:20261101T070000
END:STANDARD
BEGIN:DAYLIGHT
TZOFFSETFROM:-0600
TZOFFSETTO:-0500
TZNAME:CDT
DTSTART:20270314T080000
END:DAYLIGHT
BEGIN:STANDARD
TZOFFSETFROM:-0500
TZOFFSETTO:-0600
TZNAME:CST
DTSTART:20271107T070000
END:STANDARD
END:VTIMEZONE
BEGIN:VEVENT
DTSTART;TZID=America/Chicago:20260502T100000
DTEND;TZID=America/Chicago:20260503T160000
DTSTAMP:20260424T060400
CREATED:20250528T021402Z
LAST-MODIFIED:20260107T011610Z
UID:9015-1777716000-1777824000@okorchidsociety.org
SUMMARY:OOS's Annual Orchid Show & Sale
DESCRIPTION:See hundreds of orchids on show and for sale at Oklahoma Orchid Society’s annual Show & Sale\, the Society’s AOS-sanctioned event of the year. This two-day “Bench and Full Exhibit” show will be held from 10am to 4pm at Will Rogers Gardens Exhibition Center\, 3400 NW 36th Street\, Oklahoma City\, OK. Admission and parking are free\, and the event is open to the public. \n\n\n\n\n\n\n\nOrchid plants for ribbon judging must be registered on the Friday preceding the Show & Sale from 10:00 am–5:00 pm in the Gardens’ Exhibition Hall. Registration deadline is 5:00 pm. Ribbon judging at the Show will begin at 8:00 am Saturday morning in the Gardens’ Exhibition Hall\, immediately followed by AOS judging. \n\n\n\nVendors will have hundreds of beautiful orchids from around the world for sale\, and OOS will have growing supplies for sale. Be sure to stop at the Welcome Booth to speak with OOS members about growing and re-blooming orchids\, ask questions\, purchase raffle tickets\, engage your children in an orchid scavenger hunt\, and learn how to become a member of the Society. Come\, saturate your senses with orchids! \n\n\n\nList of Vendors\n\n\n\n\nMAB’s Orchid Nursery\, LLC\n\n\n\nOakheart Orchids\n\n\n\nSandstone Orchids & Nursery\, LLC\n\n\n\nTimbucktoo Orchids
URL:https://okorchidsociety.org/event/ooss-annual-orchid-show-sale/
LOCATION:Will Rogers Gardens Exhibition Center\, 3400 NW 36th Street\, Oklahoma City\, OK\, 73112\, United States
CATEGORIES:OOS Show & Sale
END:VEVENT
END:VCALENDAR