BEGIN:VCALENDAR
VERSION:2.0
PRODID:-//Oklahoma Orchid Society - ECPv6.15.20//NONSGML v1.0//EN
CALSCALE:GREGORIAN
METHOD:PUBLISH
X-WR-CALNAME:Oklahoma Orchid Society
X-ORIGINAL-URL:https://okorchidsociety.org
X-WR-CALDESC:Events for Oklahoma Orchid Society
REFRESH-INTERVAL;VALUE=DURATION:PT1H
X-Robots-Tag:noindex
X-PUBLISHED-TTL:PT1H
BEGIN:VTIMEZONE
TZID:America/Chicago
BEGIN:DAYLIGHT
TZOFFSETFROM:-0600
TZOFFSETTO:-0500
TZNAME:CDT
DTSTART:20220313T080000
END:DAYLIGHT
BEGIN:STANDARD
TZOFFSETFROM:-0500
TZOFFSETTO:-0600
TZNAME:CST
DTSTART:20221106T070000
END:STANDARD
BEGIN:DAYLIGHT
TZOFFSETFROM:-0600
TZOFFSETTO:-0500
TZNAME:CDT
DTSTART:20230312T080000
END:DAYLIGHT
BEGIN:STANDARD
TZOFFSETFROM:-0500
TZOFFSETTO:-0600
TZNAME:CST
DTSTART:20231105T070000
END:STANDARD
BEGIN:DAYLIGHT
TZOFFSETFROM:-0600
TZOFFSETTO:-0500
TZNAME:CDT
DTSTART:20240310T080000
END:DAYLIGHT
BEGIN:STANDARD
TZOFFSETFROM:-0500
TZOFFSETTO:-0600
TZNAME:CST
DTSTART:20241103T070000
END:STANDARD
END:VTIMEZONE
BEGIN:VEVENT
DTSTART;TZID=America/Chicago:20231118T120000
DTEND;TZID=America/Chicago:20231118T150000
DTSTAMP:20260425T203617
CREATED:20231112T220656Z
LAST-MODIFIED:20231112T221047Z
UID:8020-1700308800-1700319600@okorchidsociety.org
SUMMARY:OCA 2nd Orchid Conservation Symposium
DESCRIPTION:The purpose of this complimentary symposium is to acquaint you with some of Orchid Conservation Alliance’s currently-supported reserves\, their current projects and challenges\, and some of the people overseeing them.  \n\n\n\nSpeakers\n\n\n\n\n9:00-9:55 Prof. Ken Cameron\, University of Wisconsin\, The Impact of Climate Change on Regional Flora\n\n\n\n10:00-10:45 Javier Robayo\, Fundación\, Ecominga\, Baños\, Ecuador\n\n\n\n10:50-11:35 Sebastián Vieira\, Corporación SalvaMontes\, Yaramul\, Colombia\n\n\n\n11:40-12:25 Nicholas Locke\, REGUA\, Rio de Janeiro state\, Brazil\n\n\n\n12:25 – 12:30 Mary Gerritsen\, President\, OCA\, Closing Remarks
URL:https://okorchidsociety.org/event/oca-2nd-orchid-conservation-symposium/
LOCATION:Online
CATEGORIES:Webinar
ORGANIZER;CN="Orchid Conservation Alliance":MAILTO:info@orchidconservationalliance.org
END:VEVENT
BEGIN:VEVENT
DTSTART;TZID=America/Chicago:20231126T160000
DTEND;TZID=America/Chicago:20231126T190000
DTSTAMP:20260425T203617
CREATED:20230829T002650Z
LAST-MODIFIED:20230829T002651Z
UID:7794-1701014400-1701025200@okorchidsociety.org
SUMMARY:Friends of WRG "Tree Lighting Event"
DESCRIPTION:Free horse drawn carriage rides\, visits with Santa and Rumble the Bison from the OKC Thunder. Also\, children’s choirs\, crafts and food trucks. The event is free and open to the public.
URL:https://okorchidsociety.org/event/friends-of-wrg-tree-lighting-event/
LOCATION:Will Rogers Gardens Exhibition Center\, 3400 NW 36th Street\, Oklahoma City\, OK\, 73112\, United States
CATEGORIES:Other Society's Public Event
ORGANIZER;CN="Friends of Will Rogers Gardens Foundation":MAILTO:friendsofwrgardens@gmail.com
END:VEVENT
END:VCALENDAR