BEGIN:VCALENDAR
VERSION:2.0
PRODID:-//Oklahoma Orchid Society - ECPv6.15.20//NONSGML v1.0//EN
CALSCALE:GREGORIAN
METHOD:PUBLISH
X-ORIGINAL-URL:https://okorchidsociety.org
X-WR-CALDESC:Events for Oklahoma Orchid Society
REFRESH-INTERVAL;VALUE=DURATION:PT1H
X-Robots-Tag:noindex
X-PUBLISHED-TTL:PT1H
BEGIN:VTIMEZONE
TZID:America/Chicago
BEGIN:DAYLIGHT
TZOFFSETFROM:-0600
TZOFFSETTO:-0500
TZNAME:CDT
DTSTART:20250309T080000
END:DAYLIGHT
BEGIN:STANDARD
TZOFFSETFROM:-0500
TZOFFSETTO:-0600
TZNAME:CST
DTSTART:20251102T070000
END:STANDARD
BEGIN:DAYLIGHT
TZOFFSETFROM:-0600
TZOFFSETTO:-0500
TZNAME:CDT
DTSTART:20260308T080000
END:DAYLIGHT
BEGIN:STANDARD
TZOFFSETFROM:-0500
TZOFFSETTO:-0600
TZNAME:CST
DTSTART:20261101T070000
END:STANDARD
BEGIN:DAYLIGHT
TZOFFSETFROM:-0600
TZOFFSETTO:-0500
TZNAME:CDT
DTSTART:20270314T080000
END:DAYLIGHT
BEGIN:STANDARD
TZOFFSETFROM:-0500
TZOFFSETTO:-0600
TZNAME:CST
DTSTART:20271107T070000
END:STANDARD
END:VTIMEZONE
BEGIN:VEVENT
DTSTART;TZID=America/Chicago:20260125T100000
DTEND;TZID=America/Chicago:20260125T150000
DTSTAMP:20260424T094758
CREATED:20260113T221246Z
LAST-MODIFIED:20260113T221437Z
UID:9455-1769335200-1769353200@okorchidsociety.org
SUMMARY:The 8th Orchid Culture Day: "Step into the World of Slippers" Virtual Event
DESCRIPTION:The American Orchid Society is proud to announce its 8th Orchid Culture Day! Enjoy four great talks all in one day from the comfort of your home. We can always learn more about Orchids! Spend a day with these outstanding speakers and “Step into the World of Slippers.” There will be door prizes! \n\n\n\nJoin us virtually on Sunday\, January 25th. The event will be streamed through our GotoWebinar platform. Fee: $40. Register HERE. After registering\, you will receive a confirmation email containing information about joining the webinar. \n\n\n\nThis event is Open to All.
URL:https://okorchidsociety.org/event/the-8th-orchid-culture-day-step-into-the-world-of-slippers-virtual-event/
LOCATION:Online
CATEGORIES:Webinar
END:VEVENT
END:VCALENDAR