BEGIN:VCALENDAR
VERSION:2.0
PRODID:-//Oklahoma Orchid Society - ECPv6.15.20//NONSGML v1.0//EN
CALSCALE:GREGORIAN
METHOD:PUBLISH
X-WR-CALNAME:Oklahoma Orchid Society
X-ORIGINAL-URL:https://okorchidsociety.org
X-WR-CALDESC:Events for Oklahoma Orchid Society
REFRESH-INTERVAL;VALUE=DURATION:PT1H
X-Robots-Tag:noindex
X-PUBLISHED-TTL:PT1H
BEGIN:VTIMEZONE
TZID:America/Chicago
BEGIN:DAYLIGHT
TZOFFSETFROM:-0600
TZOFFSETTO:-0500
TZNAME:CDT
DTSTART:20220313T080000
END:DAYLIGHT
BEGIN:STANDARD
TZOFFSETFROM:-0500
TZOFFSETTO:-0600
TZNAME:CST
DTSTART:20221106T070000
END:STANDARD
BEGIN:DAYLIGHT
TZOFFSETFROM:-0600
TZOFFSETTO:-0500
TZNAME:CDT
DTSTART:20230312T080000
END:DAYLIGHT
BEGIN:STANDARD
TZOFFSETFROM:-0500
TZOFFSETTO:-0600
TZNAME:CST
DTSTART:20231105T070000
END:STANDARD
BEGIN:DAYLIGHT
TZOFFSETFROM:-0600
TZOFFSETTO:-0500
TZNAME:CDT
DTSTART:20240310T080000
END:DAYLIGHT
BEGIN:STANDARD
TZOFFSETFROM:-0500
TZOFFSETTO:-0600
TZNAME:CST
DTSTART:20241103T070000
END:STANDARD
END:VTIMEZONE
BEGIN:VEVENT
DTSTART;TZID=America/Chicago:20231111T090000
DTEND;TZID=America/Chicago:20231111T120000
DTSTAMP:20260425T114756
CREATED:20211009T184226Z
LAST-MODIFIED:20230911T214942Z
UID:3908-1699693200-1699704000@okorchidsociety.org
SUMMARY:OOS Volunteer Activity: Install Holiday Lights at Will Rogers Gardens
DESCRIPTION:OOS members are encouraged to volunteer to help detangle\, test\, and install Will Rogers Gardens’ holiday lights. This is an OOS-exclusive volunteer activity. Every volunteer’s service hours will be recorded for Oklahoma Orchid Society\, helping to offset the Society’s rental of facilities at the Exhibition Center. Work is available outdoors and inside. The Conservatory is reserved for a wedding\, so meet in the Conservatory’s headhouse (the long back hallway with potting benches). Enter through the side (back) door. Follow CDC guidelines with respect to COVID-19 precautions. We look forward to seeing you!
URL:https://okorchidsociety.org/event/install-lights-at-will-rogers-gardens/
LOCATION:Will Rogers Gardens Exhibition Center\, 3400 NW 36th Street\, Oklahoma City\, OK\, 73112\, United States
CATEGORIES:Volunteering
END:VEVENT
END:VCALENDAR