BEGIN:VCALENDAR
VERSION:2.0
PRODID:-//Oklahoma Orchid Society - ECPv6.15.20//NONSGML v1.0//EN
CALSCALE:GREGORIAN
METHOD:PUBLISH
X-ORIGINAL-URL:https://okorchidsociety.org
X-WR-CALDESC:Events for Oklahoma Orchid Society
REFRESH-INTERVAL;VALUE=DURATION:PT1H
X-Robots-Tag:noindex
X-PUBLISHED-TTL:PT1H
BEGIN:VTIMEZONE
TZID:America/Chicago
BEGIN:DAYLIGHT
TZOFFSETFROM:-0600
TZOFFSETTO:-0500
TZNAME:CDT
DTSTART:20230312T080000
END:DAYLIGHT
BEGIN:STANDARD
TZOFFSETFROM:-0500
TZOFFSETTO:-0600
TZNAME:CST
DTSTART:20231105T070000
END:STANDARD
BEGIN:DAYLIGHT
TZOFFSETFROM:-0600
TZOFFSETTO:-0500
TZNAME:CDT
DTSTART:20240310T080000
END:DAYLIGHT
BEGIN:STANDARD
TZOFFSETFROM:-0500
TZOFFSETTO:-0600
TZNAME:CST
DTSTART:20241103T070000
END:STANDARD
BEGIN:DAYLIGHT
TZOFFSETFROM:-0600
TZOFFSETTO:-0500
TZNAME:CDT
DTSTART:20250309T080000
END:DAYLIGHT
BEGIN:STANDARD
TZOFFSETFROM:-0500
TZOFFSETTO:-0600
TZNAME:CST
DTSTART:20251102T070000
END:STANDARD
END:VTIMEZONE
BEGIN:VEVENT
DTSTART;TZID=America/Chicago:20240106T090000
DTEND;TZID=America/Chicago:20240106T120000
DTSTAMP:20260425T092735
CREATED:20201124T033523Z
LAST-MODIFIED:20230911T214821Z
UID:160-1704531600-1704542400@okorchidsociety.org
SUMMARY:OOS Volunteer Activity: Remove Holiday Lights at Will Rogers Gardens
DESCRIPTION:OOS members are encouraged to volunteer to help remove\, detangle\, test\, wrap\, and store Will Rogers Gardens’ holiday lights. This is an OOS-exclusive volunteer activity. Every volunteer’s service hours will be recorded for Oklahoma Orchid Society\, helping to offset the Society’s rental of facilities at the Exhibition Center. Work is available outdoors and inside the Conservatory. Meet in the Headhouse of the Conservatory\, down the stairs from the Exhibition Center. Follow CDC guidelines with respect to COVID-19 precautions. We look forward to seeing you!
URL:https://okorchidsociety.org/event/volunteer-to-remove-lights-at-will-rogers-gardens/
LOCATION:Will Rogers Gardens Exhibition Center\, 3400 NW 36th Street\, Oklahoma City\, OK\, 73112\, United States
CATEGORIES:Volunteering
END:VEVENT
END:VCALENDAR